BEGIN:VCALENDAR
VERSION:2.0
PRODID:-//Coburg Uniting Church - ECPv6.15.20//NONSGML v1.0//EN
CALSCALE:GREGORIAN
METHOD:PUBLISH
X-ORIGINAL-URL:https://coburg.ucavictas.org.au
X-WR-CALDESC:Events for Coburg Uniting Church
REFRESH-INTERVAL;VALUE=DURATION:PT1H
X-Robots-Tag:noindex
X-PUBLISHED-TTL:PT1H
BEGIN:VTIMEZONE
TZID:Australia/Melbourne
BEGIN:STANDARD
TZOFFSETFROM:+1100
TZOFFSETTO:+1000
TZNAME:AEST
DTSTART:20280401T160000
END:STANDARD
BEGIN:DAYLIGHT
TZOFFSETFROM:+1000
TZOFFSETTO:+1100
TZNAME:AEDT
DTSTART:20280930T160000
END:DAYLIGHT
BEGIN:STANDARD
TZOFFSETFROM:+1100
TZOFFSETTO:+1000
TZNAME:AEST
DTSTART:20290331T160000
END:STANDARD
BEGIN:DAYLIGHT
TZOFFSETFROM:+1000
TZOFFSETTO:+1100
TZNAME:AEDT
DTSTART:20291006T160000
END:DAYLIGHT
BEGIN:STANDARD
TZOFFSETFROM:+1100
TZOFFSETTO:+1000
TZNAME:AEST
DTSTART:20300406T160000
END:STANDARD
BEGIN:DAYLIGHT
TZOFFSETFROM:+1000
TZOFFSETTO:+1100
TZNAME:AEDT
DTSTART:20301005T160000
END:DAYLIGHT
BEGIN:STANDARD
TZOFFSETFROM:+1100
TZOFFSETTO:+1000
TZNAME:AEST
DTSTART:20310405T160000
END:STANDARD
BEGIN:DAYLIGHT
TZOFFSETFROM:+1000
TZOFFSETTO:+1100
TZNAME:AEDT
DTSTART:20311004T160000
END:DAYLIGHT
END:VTIMEZONE
BEGIN:VEVENT
DTSTART;TZID=Australia/Melbourne:20291123T103000
DTEND;TZID=Australia/Melbourne:20291123T120000
DTSTAMP:20260421T205347
CREATED:20250108T055720Z
LAST-MODIFIED:20250108T055821Z
UID:10001356-1890124200-1890129600@coburg.ucavictas.org.au
SUMMARY:Coffee Chat and Play Playgroup
DESCRIPTION:play; connection; inclusion; singing \nduring school term time
URL:https://coburg.ucavictas.org.au/event/coffee-chat-and-play-playgroup-2-2/2029-11-23/
LOCATION:Coburg Uniting Church Hall\, 19 Victoria Street\,
GEO:37.7110816;-122.4654659
X-APPLE-STRUCTURED-LOCATION;VALUE=URI;X-ADDRESS=Coburg Uniting Church Hall 19 Victoria Street;X-APPLE-RADIUS=500;X-TITLE=19 Victoria Street\,:geo:-122.4654659,37.7110816
END:VEVENT
BEGIN:VEVENT
DTSTART;TZID=Australia/Melbourne:20291130T103000
DTEND;TZID=Australia/Melbourne:20291130T120000
DTSTAMP:20260421T205347
CREATED:20250108T055720Z
LAST-MODIFIED:20250108T055821Z
UID:10001357-1890729000-1890734400@coburg.ucavictas.org.au
SUMMARY:Coffee Chat and Play Playgroup
DESCRIPTION:play; connection; inclusion; singing \nduring school term time
URL:https://coburg.ucavictas.org.au/event/coffee-chat-and-play-playgroup-2-2/2029-11-30/
LOCATION:Coburg Uniting Church Hall\, 19 Victoria Street\,
GEO:37.7110816;-122.4654659
X-APPLE-STRUCTURED-LOCATION;VALUE=URI;X-ADDRESS=Coburg Uniting Church Hall 19 Victoria Street;X-APPLE-RADIUS=500;X-TITLE=19 Victoria Street\,:geo:-122.4654659,37.7110816
END:VEVENT
BEGIN:VEVENT
DTSTART;TZID=Australia/Melbourne:20291207T103000
DTEND;TZID=Australia/Melbourne:20291207T120000
DTSTAMP:20260421T205347
CREATED:20250108T055720Z
LAST-MODIFIED:20250108T055821Z
UID:10001358-1891333800-1891339200@coburg.ucavictas.org.au
SUMMARY:Coffee Chat and Play Playgroup
DESCRIPTION:play; connection; inclusion; singing \nduring school term time
URL:https://coburg.ucavictas.org.au/event/coffee-chat-and-play-playgroup-2-2/2029-12-07/
LOCATION:Coburg Uniting Church Hall\, 19 Victoria Street\,
GEO:37.7110816;-122.4654659
X-APPLE-STRUCTURED-LOCATION;VALUE=URI;X-ADDRESS=Coburg Uniting Church Hall 19 Victoria Street;X-APPLE-RADIUS=500;X-TITLE=19 Victoria Street\,:geo:-122.4654659,37.7110816
END:VEVENT
BEGIN:VEVENT
DTSTART;TZID=Australia/Melbourne:20291214T103000
DTEND;TZID=Australia/Melbourne:20291214T120000
DTSTAMP:20260421T205347
CREATED:20250108T055720Z
LAST-MODIFIED:20250108T055821Z
UID:10001359-1891938600-1891944000@coburg.ucavictas.org.au
SUMMARY:Coffee Chat and Play Playgroup
DESCRIPTION:play; connection; inclusion; singing \nduring school term time
URL:https://coburg.ucavictas.org.au/event/coffee-chat-and-play-playgroup-2-2/2029-12-14/
LOCATION:Coburg Uniting Church Hall\, 19 Victoria Street\,
GEO:37.7110816;-122.4654659
X-APPLE-STRUCTURED-LOCATION;VALUE=URI;X-ADDRESS=Coburg Uniting Church Hall 19 Victoria Street;X-APPLE-RADIUS=500;X-TITLE=19 Victoria Street\,:geo:-122.4654659,37.7110816
END:VEVENT
BEGIN:VEVENT
DTSTART;TZID=Australia/Melbourne:20291216T111500
DTEND;TZID=Australia/Melbourne:20291216T120000
DTSTAMP:20260421T205347
CREATED:20250108T061337Z
LAST-MODIFIED:20250108T061337Z
UID:10001415-1892114100-1892116800@coburg.ucavictas.org.au
SUMMARY:Guided meditation
DESCRIPTION:Spiritual exploration\, discussion\, mindfulness and wellbeing \n  \n 
URL:https://coburg.ucavictas.org.au/event/soul-group-3-2-2/2029-12-16/
LOCATION:Coburg Uniting Church ( rear open space )\, 19 Victoria Street\, Coburg\, Victoria\, 3058\, Australia
GEO:-37.7432561;144.9644102
X-APPLE-STRUCTURED-LOCATION;VALUE=URI;X-ADDRESS=Coburg Uniting Church ( rear open space ) 19 Victoria Street Coburg Victoria 3058 Australia;X-APPLE-RADIUS=500;X-TITLE=19 Victoria Street:geo:144.9644102,-37.7432561
END:VEVENT
BEGIN:VEVENT
DTSTART;TZID=Australia/Melbourne:20291221T103000
DTEND;TZID=Australia/Melbourne:20291221T120000
DTSTAMP:20260421T205347
CREATED:20250108T055720Z
LAST-MODIFIED:20250108T055821Z
UID:10001360-1892543400-1892548800@coburg.ucavictas.org.au
SUMMARY:Coffee Chat and Play Playgroup
DESCRIPTION:play; connection; inclusion; singing \nduring school term time
URL:https://coburg.ucavictas.org.au/event/coffee-chat-and-play-playgroup-2-2/2029-12-21/
LOCATION:Coburg Uniting Church Hall\, 19 Victoria Street\,
GEO:37.7110816;-122.4654659
X-APPLE-STRUCTURED-LOCATION;VALUE=URI;X-ADDRESS=Coburg Uniting Church Hall 19 Victoria Street;X-APPLE-RADIUS=500;X-TITLE=19 Victoria Street\,:geo:-122.4654659,37.7110816
END:VEVENT
BEGIN:VEVENT
DTSTART;TZID=Australia/Melbourne:20291228T103000
DTEND;TZID=Australia/Melbourne:20291228T120000
DTSTAMP:20260421T205347
CREATED:20250108T055720Z
LAST-MODIFIED:20250108T055821Z
UID:10001361-1893148200-1893153600@coburg.ucavictas.org.au
SUMMARY:Coffee Chat and Play Playgroup
DESCRIPTION:play; connection; inclusion; singing \nduring school term time
URL:https://coburg.ucavictas.org.au/event/coffee-chat-and-play-playgroup-2-2/2029-12-28/
LOCATION:Coburg Uniting Church Hall\, 19 Victoria Street\,
GEO:37.7110816;-122.4654659
X-APPLE-STRUCTURED-LOCATION;VALUE=URI;X-ADDRESS=Coburg Uniting Church Hall 19 Victoria Street;X-APPLE-RADIUS=500;X-TITLE=19 Victoria Street\,:geo:-122.4654659,37.7110816
END:VEVENT
BEGIN:VEVENT
DTSTART;TZID=Australia/Melbourne:20300104T103000
DTEND;TZID=Australia/Melbourne:20300104T120000
DTSTAMP:20260421T205347
CREATED:20250108T055720Z
LAST-MODIFIED:20250108T055821Z
UID:10001362-1893753000-1893758400@coburg.ucavictas.org.au
SUMMARY:Coffee Chat and Play Playgroup
DESCRIPTION:play; connection; inclusion; singing \nduring school term time
URL:https://coburg.ucavictas.org.au/event/coffee-chat-and-play-playgroup-2-2/2030-01-04/
LOCATION:Coburg Uniting Church Hall\, 19 Victoria Street\,
GEO:37.7110816;-122.4654659
X-APPLE-STRUCTURED-LOCATION;VALUE=URI;X-ADDRESS=Coburg Uniting Church Hall 19 Victoria Street;X-APPLE-RADIUS=500;X-TITLE=19 Victoria Street\,:geo:-122.4654659,37.7110816
END:VEVENT
END:VCALENDAR