BEGIN:VCALENDAR
VERSION:2.0
PRODID:-//Coburg Uniting Church - ECPv6.15.20//NONSGML v1.0//EN
CALSCALE:GREGORIAN
METHOD:PUBLISH
X-WR-CALNAME:Coburg Uniting Church
X-ORIGINAL-URL:https://coburg.ucavictas.org.au
X-WR-CALDESC:Events for Coburg Uniting Church
REFRESH-INTERVAL;VALUE=DURATION:PT1H
X-Robots-Tag:noindex
X-PUBLISHED-TTL:PT1H
BEGIN:VTIMEZONE
TZID:Australia/Melbourne
BEGIN:STANDARD
TZOFFSETFROM:+1100
TZOFFSETTO:+1000
TZNAME:AEST
DTSTART:20220402T160000
END:STANDARD
BEGIN:DAYLIGHT
TZOFFSETFROM:+1000
TZOFFSETTO:+1100
TZNAME:AEDT
DTSTART:20221001T160000
END:DAYLIGHT
BEGIN:STANDARD
TZOFFSETFROM:+1100
TZOFFSETTO:+1000
TZNAME:AEST
DTSTART:20230401T160000
END:STANDARD
BEGIN:DAYLIGHT
TZOFFSETFROM:+1000
TZOFFSETTO:+1100
TZNAME:AEDT
DTSTART:20230930T160000
END:DAYLIGHT
BEGIN:STANDARD
TZOFFSETFROM:+1100
TZOFFSETTO:+1000
TZNAME:AEST
DTSTART:20240406T160000
END:STANDARD
BEGIN:DAYLIGHT
TZOFFSETFROM:+1000
TZOFFSETTO:+1100
TZNAME:AEDT
DTSTART:20241005T160000
END:DAYLIGHT
BEGIN:STANDARD
TZOFFSETFROM:+1100
TZOFFSETTO:+1000
TZNAME:AEST
DTSTART:20250405T160000
END:STANDARD
BEGIN:DAYLIGHT
TZOFFSETFROM:+1000
TZOFFSETTO:+1100
TZNAME:AEDT
DTSTART:20251004T160000
END:DAYLIGHT
END:VTIMEZONE
BEGIN:VEVENT
DTSTART;TZID=Australia/Melbourne:20240218T100000
DTEND;TZID=Australia/Melbourne:20240218T110000
DTSTAMP:20260421T145434
CREATED:20220325T065406Z
LAST-MODIFIED:20220325T065406Z
UID:10000638-1708250400-1708254000@coburg.ucavictas.org.au
SUMMARY:Worship Service
DESCRIPTION:Enjoy an experience of uplifting music; an inspiring message infused with spirituality\, psychology and ecology;  a spirit of blessing and friendship; coffee & tea are served after the service.\nFocus is on the ultimate inspiration:  Jesus of history- absolute equality.
URL:https://coburg.ucavictas.org.au/event/worship-service-2/2024-02-18/
LOCATION:Coburg Uniting Church ( rear open space )\, 19 Victoria Street\, Coburg\, Victoria\, 3058\, Australia
GEO:-37.7432561;144.9644102
X-APPLE-STRUCTURED-LOCATION;VALUE=URI;X-ADDRESS=Coburg Uniting Church ( rear open space ) 19 Victoria Street Coburg Victoria 3058 Australia;X-APPLE-RADIUS=500;X-TITLE=19 Victoria Street:geo:144.9644102,-37.7432561
END:VEVENT
BEGIN:VEVENT
DTSTART;TZID=Australia/Melbourne:20240216T103000
DTEND;TZID=Australia/Melbourne:20240216T120000
DTSTAMP:20260421T145434
CREATED:20210113T041931Z
LAST-MODIFIED:20210113T041931Z
UID:10000353-1708079400-1708084800@coburg.ucavictas.org.au
SUMMARY:Coffee Chat and Play Playgroup
DESCRIPTION:play; connection; inclusion; singing \nduring school term time
URL:https://coburg.ucavictas.org.au/event/coffee-chat-and-play-playgroup/2024-02-16/
END:VEVENT
BEGIN:VEVENT
DTSTART;TZID=Australia/Melbourne:20240211T100000
DTEND;TZID=Australia/Melbourne:20240211T110000
DTSTAMP:20260421T145434
CREATED:20210113T004519Z
LAST-MODIFIED:20220325T065200Z
UID:10000170-1707645600-1707649200@coburg.ucavictas.org.au
SUMMARY:Worship Service
DESCRIPTION:Enjoy an experience of uplifting music; an inspiring message infused with spirituality\, psychology and ecology;  a spirit of blessing and friendship; coffee & tea are served after the service.\nFocus is on the ultimate inspiration:  Jesus of history- absolute equality.
URL:https://coburg.ucavictas.org.au/event/worship-service/2024-02-11/
LOCATION:Coburg Uniting Church ( rear open space )\, 19 Victoria Street\, Coburg\, Victoria\, 3058\, Australia
GEO:-37.7432561;144.9644102
X-APPLE-STRUCTURED-LOCATION;VALUE=URI;X-ADDRESS=Coburg Uniting Church ( rear open space ) 19 Victoria Street Coburg Victoria 3058 Australia;X-APPLE-RADIUS=500;X-TITLE=19 Victoria Street:geo:144.9644102,-37.7432561
END:VEVENT
BEGIN:VEVENT
DTSTART;TZID=Australia/Melbourne:20240210T130000
DTEND;TZID=Australia/Melbourne:20240210T150000
DTSTAMP:20260421T145434
CREATED:20240203T035053Z
LAST-MODIFIED:20240203T035053Z
UID:10000834-1707570000-1707577200@coburg.ucavictas.org.au
SUMMARY:Choir Practice with Ruth Sandy
DESCRIPTION:Join Ruth Sandy in a community minded choir that sings spiritual songs!
URL:https://coburg.ucavictas.org.au/event/choir-practice-with-ruth-sandy-2/
END:VEVENT
BEGIN:VEVENT
DTSTART;TZID=Australia/Melbourne:20240209T103000
DTEND;TZID=Australia/Melbourne:20240209T120000
DTSTAMP:20260421T145434
CREATED:20210113T041931Z
LAST-MODIFIED:20210113T041931Z
UID:10000352-1707474600-1707480000@coburg.ucavictas.org.au
SUMMARY:Coffee Chat and Play Playgroup
DESCRIPTION:play; connection; inclusion; singing \nduring school term time
URL:https://coburg.ucavictas.org.au/event/coffee-chat-and-play-playgroup/2024-02-09/
END:VEVENT
BEGIN:VEVENT
DTSTART;TZID=Australia/Melbourne:20240208T193000
DTEND;TZID=Australia/Melbourne:20240208T213000
DTSTAMP:20260421T145434
CREATED:20220325T062815Z
LAST-MODIFIED:20220325T062815Z
UID:10000543-1707420600-1707427800@coburg.ucavictas.org.au
SUMMARY:Social Games Group
DESCRIPTION:Board games night. Enjoy an evening of tabletop games in the church hall. A variety of games to suit all interests.
URL:https://coburg.ucavictas.org.au/event/social-games-group-2/2024-02-08/
END:VEVENT
BEGIN:VEVENT
DTSTART;TZID=Australia/Melbourne:20240207T190000
DTEND;TZID=Australia/Melbourne:20240207T213000
DTSTAMP:20260421T145434
CREATED:20220325T064325Z
LAST-MODIFIED:20220325T064325Z
UID:10000590-1707332400-1707341400@coburg.ucavictas.org.au
SUMMARY:Church Council
DESCRIPTION:
URL:https://coburg.ucavictas.org.au/event/church-council/2024-02-07/
END:VEVENT
BEGIN:VEVENT
DTSTART;TZID=Australia/Melbourne:20240204T100000
DTEND;TZID=Australia/Melbourne:20240204T110000
DTSTAMP:20260421T145434
CREATED:20220325T065604Z
LAST-MODIFIED:20220325T065604Z
UID:10000686-1707040800-1707044400@coburg.ucavictas.org.au
SUMMARY:Worship Service with Communion
DESCRIPTION:Enjoy an experience of uplifting music; a communion service; an inspiring message infused with spirituality\, psychology and ecology;  a spirit of blessing and friendship; coffee & tea are served after the service.\nFocus is on the ultimate inspiration:  Jesus of history- absolute equality.
URL:https://coburg.ucavictas.org.au/event/worship-service-with-communion/2024-02-04/
LOCATION:Coburg Uniting Church ( rear open space )\, 19 Victoria Street\, Coburg\, Victoria\, 3058\, Australia
GEO:-37.7432561;144.9644102
X-APPLE-STRUCTURED-LOCATION;VALUE=URI;X-ADDRESS=Coburg Uniting Church ( rear open space ) 19 Victoria Street Coburg Victoria 3058 Australia;X-APPLE-RADIUS=500;X-TITLE=19 Victoria Street:geo:144.9644102,-37.7432561
END:VEVENT
BEGIN:VEVENT
DTSTART;TZID=Australia/Melbourne:20240203T180000
DTEND;TZID=Australia/Melbourne:20240203T210000
DTSTAMP:20260421T145434
CREATED:20210113T004033Z
LAST-MODIFIED:20210113T005151Z
UID:10000108-1706983200-1706994000@coburg.ucavictas.org.au
SUMMARY:Mens Group
DESCRIPTION:First Saturday of each month. \nDiscussion of Spirituality and masculinity held over a meal.
URL:https://coburg.ucavictas.org.au/event/mens-group-3/2024-02-03/
LOCATION:Coburg Uniting Church ( rear open space )\, 19 Victoria Street\, Coburg\, Victoria\, 3058\, Australia
GEO:-37.7432561;144.9644102
X-APPLE-STRUCTURED-LOCATION;VALUE=URI;X-ADDRESS=Coburg Uniting Church ( rear open space ) 19 Victoria Street Coburg Victoria 3058 Australia;X-APPLE-RADIUS=500;X-TITLE=19 Victoria Street:geo:144.9644102,-37.7432561
END:VEVENT
BEGIN:VEVENT
DTSTART;TZID=Australia/Melbourne:20240202T103000
DTEND;TZID=Australia/Melbourne:20240202T120000
DTSTAMP:20260421T145434
CREATED:20210113T041931Z
LAST-MODIFIED:20210113T041931Z
UID:10000351-1706869800-1706875200@coburg.ucavictas.org.au
SUMMARY:Coffee Chat and Play Playgroup
DESCRIPTION:play; connection; inclusion; singing \nduring school term time
URL:https://coburg.ucavictas.org.au/event/coffee-chat-and-play-playgroup/2024-02-02/
END:VEVENT
BEGIN:VEVENT
DTSTART;TZID=Australia/Melbourne:20240128T100000
DTEND;TZID=Australia/Melbourne:20240128T110000
DTSTAMP:20260421T145434
CREATED:20220325T065439Z
LAST-MODIFIED:20220325T065530Z
UID:10000750-1706436000-1706439600@coburg.ucavictas.org.au
SUMMARY:Worship Service
DESCRIPTION:Enjoy an experience of uplifting music; an inspiring message infused with spirituality\, psychology and ecology;  a spirit of blessing and friendship; coffee & tea are served after the service.\nFocus is on the ultimate inspiration:  Jesus of history- absolute equality.
URL:https://coburg.ucavictas.org.au/event/worship-service-3/2024-01-28/
LOCATION:Coburg Uniting Church ( rear open space )\, 19 Victoria Street\, Coburg\, Victoria\, 3058\, Australia
GEO:-37.7432561;144.9644102
X-APPLE-STRUCTURED-LOCATION;VALUE=URI;X-ADDRESS=Coburg Uniting Church ( rear open space ) 19 Victoria Street Coburg Victoria 3058 Australia;X-APPLE-RADIUS=500;X-TITLE=19 Victoria Street:geo:144.9644102,-37.7432561
END:VEVENT
BEGIN:VEVENT
DTSTART;TZID=Australia/Melbourne:20240126T103000
DTEND;TZID=Australia/Melbourne:20240126T120000
DTSTAMP:20260421T145434
CREATED:20210113T041931Z
LAST-MODIFIED:20210113T041931Z
UID:10000350-1706265000-1706270400@coburg.ucavictas.org.au
SUMMARY:Coffee Chat and Play Playgroup
DESCRIPTION:play; connection; inclusion; singing \nduring school term time
URL:https://coburg.ucavictas.org.au/event/coffee-chat-and-play-playgroup/2024-01-26/
END:VEVENT
BEGIN:VEVENT
DTSTART;TZID=Australia/Melbourne:20240125T193000
DTEND;TZID=Australia/Melbourne:20240125T213000
DTSTAMP:20260421T145434
CREATED:20220325T062314Z
LAST-MODIFIED:20220325T062504Z
UID:10000495-1706211000-1706218200@coburg.ucavictas.org.au
SUMMARY:Social Games Group
DESCRIPTION:Board games night. Enjoy an evening of tabletop games in the church hall. A variety of games to suit all interests.
URL:https://coburg.ucavictas.org.au/event/social-games-group/2024-01-25/
END:VEVENT
BEGIN:VEVENT
DTSTART;TZID=Australia/Melbourne:20240121T114500
DTEND;TZID=Australia/Melbourne:20240121T123000
DTSTAMP:20260421T145434
CREATED:20210113T004035Z
LAST-MODIFIED:20230215T033349Z
UID:10000046-1705837500-1705840200@coburg.ucavictas.org.au
SUMMARY:Guided meditation
DESCRIPTION:Spiritual exploration\, discussion\, mindfulness and wellbeing \n  \n 
URL:https://coburg.ucavictas.org.au/event/soul-group-3/2024-01-21/
LOCATION:Coburg Uniting Church ( rear open space )\, 19 Victoria Street\, Coburg\, Victoria\, 3058\, Australia
GEO:-37.7432561;144.9644102
X-APPLE-STRUCTURED-LOCATION;VALUE=URI;X-ADDRESS=Coburg Uniting Church ( rear open space ) 19 Victoria Street Coburg Victoria 3058 Australia;X-APPLE-RADIUS=500;X-TITLE=19 Victoria Street:geo:144.9644102,-37.7432561
END:VEVENT
BEGIN:VEVENT
DTSTART;TZID=Australia/Melbourne:20240121T100000
DTEND;TZID=Australia/Melbourne:20240121T110000
DTSTAMP:20260421T145434
CREATED:20220325T065406Z
LAST-MODIFIED:20220325T065406Z
UID:10000637-1705831200-1705834800@coburg.ucavictas.org.au
SUMMARY:Worship Service
DESCRIPTION:Enjoy an experience of uplifting music; an inspiring message infused with spirituality\, psychology and ecology;  a spirit of blessing and friendship; coffee & tea are served after the service.\nFocus is on the ultimate inspiration:  Jesus of history- absolute equality.
URL:https://coburg.ucavictas.org.au/event/worship-service-2/2024-01-21/
LOCATION:Coburg Uniting Church ( rear open space )\, 19 Victoria Street\, Coburg\, Victoria\, 3058\, Australia
GEO:-37.7432561;144.9644102
X-APPLE-STRUCTURED-LOCATION;VALUE=URI;X-ADDRESS=Coburg Uniting Church ( rear open space ) 19 Victoria Street Coburg Victoria 3058 Australia;X-APPLE-RADIUS=500;X-TITLE=19 Victoria Street:geo:144.9644102,-37.7432561
END:VEVENT
BEGIN:VEVENT
DTSTART;TZID=Australia/Melbourne:20240119T103000
DTEND;TZID=Australia/Melbourne:20240119T120000
DTSTAMP:20260421T145434
CREATED:20210113T041931Z
LAST-MODIFIED:20210113T041931Z
UID:10000349-1705660200-1705665600@coburg.ucavictas.org.au
SUMMARY:Coffee Chat and Play Playgroup
DESCRIPTION:play; connection; inclusion; singing \nduring school term time
URL:https://coburg.ucavictas.org.au/event/coffee-chat-and-play-playgroup/2024-01-19/
END:VEVENT
BEGIN:VEVENT
DTSTART;TZID=Australia/Melbourne:20240114T100000
DTEND;TZID=Australia/Melbourne:20240114T110000
DTSTAMP:20260421T145434
CREATED:20210113T004519Z
LAST-MODIFIED:20220325T065200Z
UID:10000169-1705226400-1705230000@coburg.ucavictas.org.au
SUMMARY:Worship Service
DESCRIPTION:Enjoy an experience of uplifting music; an inspiring message infused with spirituality\, psychology and ecology;  a spirit of blessing and friendship; coffee & tea are served after the service.\nFocus is on the ultimate inspiration:  Jesus of history- absolute equality.
URL:https://coburg.ucavictas.org.au/event/worship-service/2024-01-14/
LOCATION:Coburg Uniting Church ( rear open space )\, 19 Victoria Street\, Coburg\, Victoria\, 3058\, Australia
GEO:-37.7432561;144.9644102
X-APPLE-STRUCTURED-LOCATION;VALUE=URI;X-ADDRESS=Coburg Uniting Church ( rear open space ) 19 Victoria Street Coburg Victoria 3058 Australia;X-APPLE-RADIUS=500;X-TITLE=19 Victoria Street:geo:144.9644102,-37.7432561
END:VEVENT
BEGIN:VEVENT
DTSTART;TZID=Australia/Melbourne:20240112T103000
DTEND;TZID=Australia/Melbourne:20240112T120000
DTSTAMP:20260421T145434
CREATED:20210113T041931Z
LAST-MODIFIED:20210113T041931Z
UID:10000348-1705055400-1705060800@coburg.ucavictas.org.au
SUMMARY:Coffee Chat and Play Playgroup
DESCRIPTION:play; connection; inclusion; singing \nduring school term time
URL:https://coburg.ucavictas.org.au/event/coffee-chat-and-play-playgroup/2024-01-12/
END:VEVENT
BEGIN:VEVENT
DTSTART;TZID=Australia/Melbourne:20240111T193000
DTEND;TZID=Australia/Melbourne:20240111T213000
DTSTAMP:20260421T145434
CREATED:20220325T062815Z
LAST-MODIFIED:20220325T062815Z
UID:10000542-1705001400-1705008600@coburg.ucavictas.org.au
SUMMARY:Social Games Group
DESCRIPTION:Board games night. Enjoy an evening of tabletop games in the church hall. A variety of games to suit all interests.
URL:https://coburg.ucavictas.org.au/event/social-games-group-2/2024-01-11/
END:VEVENT
BEGIN:VEVENT
DTSTART;TZID=Australia/Melbourne:20240107T100000
DTEND;TZID=Australia/Melbourne:20240107T110000
DTSTAMP:20260421T145434
CREATED:20220325T065604Z
LAST-MODIFIED:20220325T065604Z
UID:10000685-1704621600-1704625200@coburg.ucavictas.org.au
SUMMARY:Worship Service with Communion
DESCRIPTION:Enjoy an experience of uplifting music; a communion service; an inspiring message infused with spirituality\, psychology and ecology;  a spirit of blessing and friendship; coffee & tea are served after the service.\nFocus is on the ultimate inspiration:  Jesus of history- absolute equality.
URL:https://coburg.ucavictas.org.au/event/worship-service-with-communion/2024-01-07/
LOCATION:Coburg Uniting Church ( rear open space )\, 19 Victoria Street\, Coburg\, Victoria\, 3058\, Australia
GEO:-37.7432561;144.9644102
X-APPLE-STRUCTURED-LOCATION;VALUE=URI;X-ADDRESS=Coburg Uniting Church ( rear open space ) 19 Victoria Street Coburg Victoria 3058 Australia;X-APPLE-RADIUS=500;X-TITLE=19 Victoria Street:geo:144.9644102,-37.7432561
END:VEVENT
BEGIN:VEVENT
DTSTART;TZID=Australia/Melbourne:20240106T180000
DTEND;TZID=Australia/Melbourne:20240106T210000
DTSTAMP:20260421T145434
CREATED:20210113T004033Z
LAST-MODIFIED:20210113T005151Z
UID:10000107-1704564000-1704574800@coburg.ucavictas.org.au
SUMMARY:Mens Group
DESCRIPTION:First Saturday of each month. \nDiscussion of Spirituality and masculinity held over a meal.
URL:https://coburg.ucavictas.org.au/event/mens-group-3/2024-01-06/
LOCATION:Coburg Uniting Church ( rear open space )\, 19 Victoria Street\, Coburg\, Victoria\, 3058\, Australia
GEO:-37.7432561;144.9644102
X-APPLE-STRUCTURED-LOCATION;VALUE=URI;X-ADDRESS=Coburg Uniting Church ( rear open space ) 19 Victoria Street Coburg Victoria 3058 Australia;X-APPLE-RADIUS=500;X-TITLE=19 Victoria Street:geo:144.9644102,-37.7432561
END:VEVENT
BEGIN:VEVENT
DTSTART;TZID=Australia/Melbourne:20240105T103000
DTEND;TZID=Australia/Melbourne:20240105T120000
DTSTAMP:20260421T145434
CREATED:20210113T041931Z
LAST-MODIFIED:20210113T041931Z
UID:10000347-1704450600-1704456000@coburg.ucavictas.org.au
SUMMARY:Coffee Chat and Play Playgroup
DESCRIPTION:play; connection; inclusion; singing \nduring school term time
URL:https://coburg.ucavictas.org.au/event/coffee-chat-and-play-playgroup/2024-01-05/
END:VEVENT
BEGIN:VEVENT
DTSTART;TZID=Australia/Melbourne:20240103T190000
DTEND;TZID=Australia/Melbourne:20240103T213000
DTSTAMP:20260421T145434
CREATED:20220325T064325Z
LAST-MODIFIED:20220325T064325Z
UID:10000589-1704308400-1704317400@coburg.ucavictas.org.au
SUMMARY:Church Council
DESCRIPTION:
URL:https://coburg.ucavictas.org.au/event/church-council/2024-01-03/
END:VEVENT
BEGIN:VEVENT
DTSTART;TZID=Australia/Melbourne:20231231T100000
DTEND;TZID=Australia/Melbourne:20231231T110000
DTSTAMP:20260421T145434
CREATED:20220325T065532Z
LAST-MODIFIED:20220325T065532Z
UID:10000719-1704016800-1704020400@coburg.ucavictas.org.au
SUMMARY:Worship Service
DESCRIPTION:Enjoy an experience of uplifting music; an inspiring message infused with spirituality\, psychology and ecology;  a spirit of blessing and friendship; coffee & tea are served after the service.\nFocus is on the ultimate inspiration:  Jesus of history- absolute equality.
URL:https://coburg.ucavictas.org.au/event/worship-service-4/2023-12-31/
LOCATION:Coburg Uniting Church ( rear open space )\, 19 Victoria Street\, Coburg\, Victoria\, 3058\, Australia
GEO:-37.7432561;144.9644102
X-APPLE-STRUCTURED-LOCATION;VALUE=URI;X-ADDRESS=Coburg Uniting Church ( rear open space ) 19 Victoria Street Coburg Victoria 3058 Australia;X-APPLE-RADIUS=500;X-TITLE=19 Victoria Street:geo:144.9644102,-37.7432561
END:VEVENT
BEGIN:VEVENT
DTSTART;TZID=Australia/Melbourne:20231229T103000
DTEND;TZID=Australia/Melbourne:20231229T120000
DTSTAMP:20260421T145434
CREATED:20210113T041931Z
LAST-MODIFIED:20210113T041931Z
UID:10000346-1703845800-1703851200@coburg.ucavictas.org.au
SUMMARY:Coffee Chat and Play Playgroup
DESCRIPTION:play; connection; inclusion; singing \nduring school term time
URL:https://coburg.ucavictas.org.au/event/coffee-chat-and-play-playgroup/2023-12-29/
END:VEVENT
BEGIN:VEVENT
DTSTART;TZID=Australia/Melbourne:20231228T193000
DTEND;TZID=Australia/Melbourne:20231228T213000
DTSTAMP:20260421T145434
CREATED:20220325T062314Z
LAST-MODIFIED:20220325T062504Z
UID:10000494-1703791800-1703799000@coburg.ucavictas.org.au
SUMMARY:Social Games Group
DESCRIPTION:Board games night. Enjoy an evening of tabletop games in the church hall. A variety of games to suit all interests.
URL:https://coburg.ucavictas.org.au/event/social-games-group/2023-12-28/
END:VEVENT
BEGIN:VEVENT
DTSTART;TZID=Australia/Melbourne:20231224T100000
DTEND;TZID=Australia/Melbourne:20231224T110000
DTSTAMP:20260421T145434
CREATED:20220325T065439Z
LAST-MODIFIED:20220325T065530Z
UID:10000749-1703412000-1703415600@coburg.ucavictas.org.au
SUMMARY:Worship Service
DESCRIPTION:Enjoy an experience of uplifting music; an inspiring message infused with spirituality\, psychology and ecology;  a spirit of blessing and friendship; coffee & tea are served after the service.\nFocus is on the ultimate inspiration:  Jesus of history- absolute equality.
URL:https://coburg.ucavictas.org.au/event/worship-service-3/2023-12-24/
LOCATION:Coburg Uniting Church ( rear open space )\, 19 Victoria Street\, Coburg\, Victoria\, 3058\, Australia
GEO:-37.7432561;144.9644102
X-APPLE-STRUCTURED-LOCATION;VALUE=URI;X-ADDRESS=Coburg Uniting Church ( rear open space ) 19 Victoria Street Coburg Victoria 3058 Australia;X-APPLE-RADIUS=500;X-TITLE=19 Victoria Street:geo:144.9644102,-37.7432561
END:VEVENT
BEGIN:VEVENT
DTSTART;TZID=Australia/Melbourne:20231222T183000
DTEND;TZID=Australia/Melbourne:20231222T213000
DTSTAMP:20260421T145434
CREATED:20240301T222424Z
LAST-MODIFIED:20240301T222424Z
UID:10000820-1703269800-1703280600@coburg.ucavictas.org.au
SUMMARY:Way Baptist
DESCRIPTION:
URL:https://coburg.ucavictas.org.au/event/way-baptist/2023-12-22/
END:VEVENT
BEGIN:VEVENT
DTSTART;TZID=Australia/Melbourne:20231222T103000
DTEND;TZID=Australia/Melbourne:20231222T120000
DTSTAMP:20260421T145434
CREATED:20210113T041931Z
LAST-MODIFIED:20210113T041931Z
UID:10000345-1703241000-1703246400@coburg.ucavictas.org.au
SUMMARY:Coffee Chat and Play Playgroup
DESCRIPTION:play; connection; inclusion; singing \nduring school term time
URL:https://coburg.ucavictas.org.au/event/coffee-chat-and-play-playgroup/2023-12-22/
END:VEVENT
BEGIN:VEVENT
DTSTART;TZID=Australia/Melbourne:20231217T114500
DTEND;TZID=Australia/Melbourne:20231217T123000
DTSTAMP:20260421T145434
CREATED:20210113T004035Z
LAST-MODIFIED:20230215T033349Z
UID:10000045-1702813500-1702816200@coburg.ucavictas.org.au
SUMMARY:Guided meditation
DESCRIPTION:Spiritual exploration\, discussion\, mindfulness and wellbeing \n  \n 
URL:https://coburg.ucavictas.org.au/event/soul-group-3/2023-12-17/
LOCATION:Coburg Uniting Church ( rear open space )\, 19 Victoria Street\, Coburg\, Victoria\, 3058\, Australia
GEO:-37.7432561;144.9644102
X-APPLE-STRUCTURED-LOCATION;VALUE=URI;X-ADDRESS=Coburg Uniting Church ( rear open space ) 19 Victoria Street Coburg Victoria 3058 Australia;X-APPLE-RADIUS=500;X-TITLE=19 Victoria Street:geo:144.9644102,-37.7432561
END:VEVENT
END:VCALENDAR