BEGIN:VCALENDAR
VERSION:2.0
PRODID:-//Coburg Uniting Church - ECPv6.15.20//NONSGML v1.0//EN
CALSCALE:GREGORIAN
METHOD:PUBLISH
X-WR-CALNAME:Coburg Uniting Church
X-ORIGINAL-URL:https://coburg.ucavictas.org.au
X-WR-CALDESC:Events for Coburg Uniting Church
REFRESH-INTERVAL;VALUE=DURATION:PT1H
X-Robots-Tag:noindex
X-PUBLISHED-TTL:PT1H
BEGIN:VTIMEZONE
TZID:Australia/Melbourne
BEGIN:STANDARD
TZOFFSETFROM:+1100
TZOFFSETTO:+1000
TZNAME:AEST
DTSTART:20220402T160000
END:STANDARD
BEGIN:DAYLIGHT
TZOFFSETFROM:+1000
TZOFFSETTO:+1100
TZNAME:AEDT
DTSTART:20221001T160000
END:DAYLIGHT
BEGIN:STANDARD
TZOFFSETFROM:+1100
TZOFFSETTO:+1000
TZNAME:AEST
DTSTART:20230401T160000
END:STANDARD
BEGIN:DAYLIGHT
TZOFFSETFROM:+1000
TZOFFSETTO:+1100
TZNAME:AEDT
DTSTART:20230930T160000
END:DAYLIGHT
BEGIN:STANDARD
TZOFFSETFROM:+1100
TZOFFSETTO:+1000
TZNAME:AEST
DTSTART:20240406T160000
END:STANDARD
BEGIN:DAYLIGHT
TZOFFSETFROM:+1000
TZOFFSETTO:+1100
TZNAME:AEDT
DTSTART:20241005T160000
END:DAYLIGHT
END:VTIMEZONE
BEGIN:VEVENT
DTSTART;TZID=Australia/Melbourne:20231119T114500
DTEND;TZID=Australia/Melbourne:20231119T123000
DTSTAMP:20260422T124320
CREATED:20210113T004035Z
LAST-MODIFIED:20230215T033349Z
UID:10000044-1700394300-1700397000@coburg.ucavictas.org.au
SUMMARY:Guided meditation
DESCRIPTION:Spiritual exploration\, discussion\, mindfulness and wellbeing \n  \n 
URL:https://coburg.ucavictas.org.au/event/soul-group-3/2023-11-19/
LOCATION:Coburg Uniting Church ( rear open space )\, 19 Victoria Street\, Coburg\, Victoria\, 3058\, Australia
GEO:-37.7432561;144.9644102
X-APPLE-STRUCTURED-LOCATION;VALUE=URI;X-ADDRESS=Coburg Uniting Church ( rear open space ) 19 Victoria Street Coburg Victoria 3058 Australia;X-APPLE-RADIUS=500;X-TITLE=19 Victoria Street:geo:144.9644102,-37.7432561
END:VEVENT
BEGIN:VEVENT
DTSTART;TZID=Australia/Melbourne:20231119T100000
DTEND;TZID=Australia/Melbourne:20231119T110000
DTSTAMP:20260422T124320
CREATED:20220325T065406Z
LAST-MODIFIED:20220325T065406Z
UID:10000635-1700388000-1700391600@coburg.ucavictas.org.au
SUMMARY:Worship Service
DESCRIPTION:Enjoy an experience of uplifting music; an inspiring message infused with spirituality\, psychology and ecology;  a spirit of blessing and friendship; coffee & tea are served after the service.\nFocus is on the ultimate inspiration:  Jesus of history- absolute equality.
URL:https://coburg.ucavictas.org.au/event/worship-service-2/2023-11-19/
LOCATION:Coburg Uniting Church ( rear open space )\, 19 Victoria Street\, Coburg\, Victoria\, 3058\, Australia
GEO:-37.7432561;144.9644102
X-APPLE-STRUCTURED-LOCATION;VALUE=URI;X-ADDRESS=Coburg Uniting Church ( rear open space ) 19 Victoria Street Coburg Victoria 3058 Australia;X-APPLE-RADIUS=500;X-TITLE=19 Victoria Street:geo:144.9644102,-37.7432561
END:VEVENT
BEGIN:VEVENT
DTSTART;TZID=Australia/Melbourne:20231117T103000
DTEND;TZID=Australia/Melbourne:20231117T120000
DTSTAMP:20260422T124320
CREATED:20210113T041931Z
LAST-MODIFIED:20210113T041931Z
UID:10000340-1700217000-1700222400@coburg.ucavictas.org.au
SUMMARY:Coffee Chat and Play Playgroup
DESCRIPTION:play; connection; inclusion; singing \nduring school term time
URL:https://coburg.ucavictas.org.au/event/coffee-chat-and-play-playgroup/2023-11-17/
END:VEVENT
BEGIN:VEVENT
DTSTART;TZID=Australia/Melbourne:20231112T100000
DTEND;TZID=Australia/Melbourne:20231112T110000
DTSTAMP:20260422T124320
CREATED:20210113T004519Z
LAST-MODIFIED:20220325T065200Z
UID:10000167-1699783200-1699786800@coburg.ucavictas.org.au
SUMMARY:Worship Service
DESCRIPTION:Enjoy an experience of uplifting music; an inspiring message infused with spirituality\, psychology and ecology;  a spirit of blessing and friendship; coffee & tea are served after the service.\nFocus is on the ultimate inspiration:  Jesus of history- absolute equality.
URL:https://coburg.ucavictas.org.au/event/worship-service/2023-11-12/
LOCATION:Coburg Uniting Church ( rear open space )\, 19 Victoria Street\, Coburg\, Victoria\, 3058\, Australia
GEO:-37.7432561;144.9644102
X-APPLE-STRUCTURED-LOCATION;VALUE=URI;X-ADDRESS=Coburg Uniting Church ( rear open space ) 19 Victoria Street Coburg Victoria 3058 Australia;X-APPLE-RADIUS=500;X-TITLE=19 Victoria Street:geo:144.9644102,-37.7432561
END:VEVENT
BEGIN:VEVENT
DTSTART;TZID=Australia/Melbourne:20231110T183000
DTEND;TZID=Australia/Melbourne:20231110T213000
DTSTAMP:20260422T124320
CREATED:20221007T060105Z
LAST-MODIFIED:20230215T033306Z
UID:10000804-1699641000-1699651800@coburg.ucavictas.org.au
SUMMARY:Way Baptist
DESCRIPTION:
URL:https://coburg.ucavictas.org.au/event/way-baptist/2023-11-10/
END:VEVENT
BEGIN:VEVENT
DTSTART;TZID=Australia/Melbourne:20231110T103000
DTEND;TZID=Australia/Melbourne:20231110T120000
DTSTAMP:20260422T124320
CREATED:20210113T041931Z
LAST-MODIFIED:20210113T041931Z
UID:10000339-1699612200-1699617600@coburg.ucavictas.org.au
SUMMARY:Coffee Chat and Play Playgroup
DESCRIPTION:play; connection; inclusion; singing \nduring school term time
URL:https://coburg.ucavictas.org.au/event/coffee-chat-and-play-playgroup/2023-11-10/
END:VEVENT
BEGIN:VEVENT
DTSTART;TZID=Australia/Melbourne:20231109T193000
DTEND;TZID=Australia/Melbourne:20231109T213000
DTSTAMP:20260422T124320
CREATED:20220325T062815Z
LAST-MODIFIED:20220325T062815Z
UID:10000540-1699558200-1699565400@coburg.ucavictas.org.au
SUMMARY:Social Games Group
DESCRIPTION:Board games night. Enjoy an evening of tabletop games in the church hall. A variety of games to suit all interests.
URL:https://coburg.ucavictas.org.au/event/social-games-group-2/2023-11-09/
END:VEVENT
BEGIN:VEVENT
DTSTART;TZID=Australia/Melbourne:20231105T100000
DTEND;TZID=Australia/Melbourne:20231105T110000
DTSTAMP:20260422T124320
CREATED:20220325T065604Z
LAST-MODIFIED:20220325T065604Z
UID:10000683-1699178400-1699182000@coburg.ucavictas.org.au
SUMMARY:Worship Service with Communion
DESCRIPTION:Enjoy an experience of uplifting music; a communion service; an inspiring message infused with spirituality\, psychology and ecology;  a spirit of blessing and friendship; coffee & tea are served after the service.\nFocus is on the ultimate inspiration:  Jesus of history- absolute equality.
URL:https://coburg.ucavictas.org.au/event/worship-service-with-communion/2023-11-05/
LOCATION:Coburg Uniting Church ( rear open space )\, 19 Victoria Street\, Coburg\, Victoria\, 3058\, Australia
GEO:-37.7432561;144.9644102
X-APPLE-STRUCTURED-LOCATION;VALUE=URI;X-ADDRESS=Coburg Uniting Church ( rear open space ) 19 Victoria Street Coburg Victoria 3058 Australia;X-APPLE-RADIUS=500;X-TITLE=19 Victoria Street:geo:144.9644102,-37.7432561
END:VEVENT
BEGIN:VEVENT
DTSTART;TZID=Australia/Melbourne:20231104T180000
DTEND;TZID=Australia/Melbourne:20231104T210000
DTSTAMP:20260422T124320
CREATED:20210113T004033Z
LAST-MODIFIED:20210113T005151Z
UID:10000105-1699120800-1699131600@coburg.ucavictas.org.au
SUMMARY:Mens Group
DESCRIPTION:First Saturday of each month. \nDiscussion of Spirituality and masculinity held over a meal.
URL:https://coburg.ucavictas.org.au/event/mens-group-3/2023-11-04/
LOCATION:Coburg Uniting Church ( rear open space )\, 19 Victoria Street\, Coburg\, Victoria\, 3058\, Australia
GEO:-37.7432561;144.9644102
X-APPLE-STRUCTURED-LOCATION;VALUE=URI;X-ADDRESS=Coburg Uniting Church ( rear open space ) 19 Victoria Street Coburg Victoria 3058 Australia;X-APPLE-RADIUS=500;X-TITLE=19 Victoria Street:geo:144.9644102,-37.7432561
END:VEVENT
BEGIN:VEVENT
DTSTART;TZID=Australia/Melbourne:20231103T103000
DTEND;TZID=Australia/Melbourne:20231103T120000
DTSTAMP:20260422T124320
CREATED:20210113T041931Z
LAST-MODIFIED:20210113T041931Z
UID:10000338-1699007400-1699012800@coburg.ucavictas.org.au
SUMMARY:Coffee Chat and Play Playgroup
DESCRIPTION:play; connection; inclusion; singing \nduring school term time
URL:https://coburg.ucavictas.org.au/event/coffee-chat-and-play-playgroup/2023-11-03/
END:VEVENT
BEGIN:VEVENT
DTSTART;TZID=Australia/Melbourne:20231101T190000
DTEND;TZID=Australia/Melbourne:20231101T213000
DTSTAMP:20260422T124320
CREATED:20220325T064325Z
LAST-MODIFIED:20220325T064325Z
UID:10000587-1698865200-1698874200@coburg.ucavictas.org.au
SUMMARY:Church Council
DESCRIPTION:
URL:https://coburg.ucavictas.org.au/event/church-council/2023-11-01/
END:VEVENT
BEGIN:VEVENT
DTSTART;TZID=Australia/Melbourne:20231029T100000
DTEND;TZID=Australia/Melbourne:20231029T110000
DTSTAMP:20260422T124320
CREATED:20220325T065532Z
LAST-MODIFIED:20220325T065532Z
UID:10000718-1698573600-1698577200@coburg.ucavictas.org.au
SUMMARY:Worship Service
DESCRIPTION:Enjoy an experience of uplifting music; an inspiring message infused with spirituality\, psychology and ecology;  a spirit of blessing and friendship; coffee & tea are served after the service.\nFocus is on the ultimate inspiration:  Jesus of history- absolute equality.
URL:https://coburg.ucavictas.org.au/event/worship-service-4/2023-10-29/
LOCATION:Coburg Uniting Church ( rear open space )\, 19 Victoria Street\, Coburg\, Victoria\, 3058\, Australia
GEO:-37.7432561;144.9644102
X-APPLE-STRUCTURED-LOCATION;VALUE=URI;X-ADDRESS=Coburg Uniting Church ( rear open space ) 19 Victoria Street Coburg Victoria 3058 Australia;X-APPLE-RADIUS=500;X-TITLE=19 Victoria Street:geo:144.9644102,-37.7432561
END:VEVENT
BEGIN:VEVENT
DTSTART;TZID=Australia/Melbourne:20231027T183000
DTEND;TZID=Australia/Melbourne:20231027T213000
DTSTAMP:20260422T124320
CREATED:20240301T222424Z
LAST-MODIFIED:20240301T222424Z
UID:10000818-1698431400-1698442200@coburg.ucavictas.org.au
SUMMARY:Way Baptist
DESCRIPTION:
URL:https://coburg.ucavictas.org.au/event/way-baptist/2023-10-27/
END:VEVENT
BEGIN:VEVENT
DTSTART;TZID=Australia/Melbourne:20231027T103000
DTEND;TZID=Australia/Melbourne:20231027T120000
DTSTAMP:20260422T124320
CREATED:20210113T041931Z
LAST-MODIFIED:20210113T041931Z
UID:10000337-1698402600-1698408000@coburg.ucavictas.org.au
SUMMARY:Coffee Chat and Play Playgroup
DESCRIPTION:play; connection; inclusion; singing \nduring school term time
URL:https://coburg.ucavictas.org.au/event/coffee-chat-and-play-playgroup/2023-10-27/
END:VEVENT
BEGIN:VEVENT
DTSTART;TZID=Australia/Melbourne:20231026T193000
DTEND;TZID=Australia/Melbourne:20231026T213000
DTSTAMP:20260422T124320
CREATED:20220325T062314Z
LAST-MODIFIED:20220325T062504Z
UID:10000492-1698348600-1698355800@coburg.ucavictas.org.au
SUMMARY:Social Games Group
DESCRIPTION:Board games night. Enjoy an evening of tabletop games in the church hall. A variety of games to suit all interests.
URL:https://coburg.ucavictas.org.au/event/social-games-group/2023-10-26/
END:VEVENT
BEGIN:VEVENT
DTSTART;TZID=Australia/Melbourne:20231022T100000
DTEND;TZID=Australia/Melbourne:20231022T110000
DTSTAMP:20260422T124320
CREATED:20220325T065439Z
LAST-MODIFIED:20220325T065530Z
UID:10000747-1697968800-1697972400@coburg.ucavictas.org.au
SUMMARY:Worship Service
DESCRIPTION:Enjoy an experience of uplifting music; an inspiring message infused with spirituality\, psychology and ecology;  a spirit of blessing and friendship; coffee & tea are served after the service.\nFocus is on the ultimate inspiration:  Jesus of history- absolute equality.
URL:https://coburg.ucavictas.org.au/event/worship-service-3/2023-10-22/
LOCATION:Coburg Uniting Church ( rear open space )\, 19 Victoria Street\, Coburg\, Victoria\, 3058\, Australia
GEO:-37.7432561;144.9644102
X-APPLE-STRUCTURED-LOCATION;VALUE=URI;X-ADDRESS=Coburg Uniting Church ( rear open space ) 19 Victoria Street Coburg Victoria 3058 Australia;X-APPLE-RADIUS=500;X-TITLE=19 Victoria Street:geo:144.9644102,-37.7432561
END:VEVENT
BEGIN:VEVENT
DTSTART;TZID=Australia/Melbourne:20231020T103000
DTEND;TZID=Australia/Melbourne:20231020T120000
DTSTAMP:20260422T124320
CREATED:20210113T041931Z
LAST-MODIFIED:20210113T041931Z
UID:10000336-1697797800-1697803200@coburg.ucavictas.org.au
SUMMARY:Coffee Chat and Play Playgroup
DESCRIPTION:play; connection; inclusion; singing \nduring school term time
URL:https://coburg.ucavictas.org.au/event/coffee-chat-and-play-playgroup/2023-10-20/
END:VEVENT
BEGIN:VEVENT
DTSTART;TZID=Australia/Melbourne:20231015T114500
DTEND;TZID=Australia/Melbourne:20231015T123000
DTSTAMP:20260422T124320
CREATED:20210113T004035Z
LAST-MODIFIED:20230215T033349Z
UID:10000043-1697370300-1697373000@coburg.ucavictas.org.au
SUMMARY:Guided meditation
DESCRIPTION:Spiritual exploration\, discussion\, mindfulness and wellbeing \n  \n 
URL:https://coburg.ucavictas.org.au/event/soul-group-3/2023-10-15/
LOCATION:Coburg Uniting Church ( rear open space )\, 19 Victoria Street\, Coburg\, Victoria\, 3058\, Australia
GEO:-37.7432561;144.9644102
X-APPLE-STRUCTURED-LOCATION;VALUE=URI;X-ADDRESS=Coburg Uniting Church ( rear open space ) 19 Victoria Street Coburg Victoria 3058 Australia;X-APPLE-RADIUS=500;X-TITLE=19 Victoria Street:geo:144.9644102,-37.7432561
END:VEVENT
BEGIN:VEVENT
DTSTART;TZID=Australia/Melbourne:20231015T100000
DTEND;TZID=Australia/Melbourne:20231015T110000
DTSTAMP:20260422T124320
CREATED:20220325T065406Z
LAST-MODIFIED:20220325T065406Z
UID:10000634-1697364000-1697367600@coburg.ucavictas.org.au
SUMMARY:Worship Service
DESCRIPTION:Enjoy an experience of uplifting music; an inspiring message infused with spirituality\, psychology and ecology;  a spirit of blessing and friendship; coffee & tea are served after the service.\nFocus is on the ultimate inspiration:  Jesus of history- absolute equality.
URL:https://coburg.ucavictas.org.au/event/worship-service-2/2023-10-15/
LOCATION:Coburg Uniting Church ( rear open space )\, 19 Victoria Street\, Coburg\, Victoria\, 3058\, Australia
GEO:-37.7432561;144.9644102
X-APPLE-STRUCTURED-LOCATION;VALUE=URI;X-ADDRESS=Coburg Uniting Church ( rear open space ) 19 Victoria Street Coburg Victoria 3058 Australia;X-APPLE-RADIUS=500;X-TITLE=19 Victoria Street:geo:144.9644102,-37.7432561
END:VEVENT
BEGIN:VEVENT
DTSTART;TZID=Australia/Melbourne:20231013T183000
DTEND;TZID=Australia/Melbourne:20231013T213000
DTSTAMP:20260422T124320
CREATED:20221007T060105Z
LAST-MODIFIED:20230215T033306Z
UID:10000803-1697221800-1697232600@coburg.ucavictas.org.au
SUMMARY:Way Baptist
DESCRIPTION:
URL:https://coburg.ucavictas.org.au/event/way-baptist/2023-10-13/
END:VEVENT
BEGIN:VEVENT
DTSTART;TZID=Australia/Melbourne:20231013T103000
DTEND;TZID=Australia/Melbourne:20231013T120000
DTSTAMP:20260422T124320
CREATED:20210113T041931Z
LAST-MODIFIED:20210113T041931Z
UID:10000335-1697193000-1697198400@coburg.ucavictas.org.au
SUMMARY:Coffee Chat and Play Playgroup
DESCRIPTION:play; connection; inclusion; singing \nduring school term time
URL:https://coburg.ucavictas.org.au/event/coffee-chat-and-play-playgroup/2023-10-13/
END:VEVENT
BEGIN:VEVENT
DTSTART;TZID=Australia/Melbourne:20231012T193000
DTEND;TZID=Australia/Melbourne:20231012T213000
DTSTAMP:20260422T124320
CREATED:20220325T062815Z
LAST-MODIFIED:20220325T062815Z
UID:10000539-1697139000-1697146200@coburg.ucavictas.org.au
SUMMARY:Social Games Group
DESCRIPTION:Board games night. Enjoy an evening of tabletop games in the church hall. A variety of games to suit all interests.
URL:https://coburg.ucavictas.org.au/event/social-games-group-2/2023-10-12/
END:VEVENT
BEGIN:VEVENT
DTSTART;TZID=Australia/Melbourne:20231008T120000
DTEND;TZID=Australia/Melbourne:20231008T130000
DTSTAMP:20260422T124320
CREATED:20230921T083952Z
LAST-MODIFIED:20230921T084201Z
UID:10000823-1696766400-1696770000@coburg.ucavictas.org.au
SUMMARY:Yoga for Well Being
DESCRIPTION:This is a simple\, accessible form of yoga; involving simple stretches based on timing them with the breath to help “slow down” thoughts. \nThe hoped for outcome is to bring a sense of quietening the mind and peacefulness in body and mind. \n\nCost:  Health care card & Pensioner:  gold coin donation; salaried persons:  $5\nwear comfortable clothes\nLocation: Coburg Church Hall\nEnter through the green gate
URL:https://coburg.ucavictas.org.au/event/yoga-for-well-being/
LOCATION:Coburg Uniting Church Hall\, 19 Victoria Street\,
GEO:37.7110816;-122.4654659
X-APPLE-STRUCTURED-LOCATION;VALUE=URI;X-ADDRESS=Coburg Uniting Church Hall 19 Victoria Street;X-APPLE-RADIUS=500;X-TITLE=19 Victoria Street\,:geo:-122.4654659,37.7110816
END:VEVENT
BEGIN:VEVENT
DTSTART;TZID=Australia/Melbourne:20231008T100000
DTEND;TZID=Australia/Melbourne:20231008T110000
DTSTAMP:20260422T124320
CREATED:20210113T004519Z
LAST-MODIFIED:20220325T065200Z
UID:10000166-1696759200-1696762800@coburg.ucavictas.org.au
SUMMARY:Worship Service
DESCRIPTION:Enjoy an experience of uplifting music; an inspiring message infused with spirituality\, psychology and ecology;  a spirit of blessing and friendship; coffee & tea are served after the service.\nFocus is on the ultimate inspiration:  Jesus of history- absolute equality.
URL:https://coburg.ucavictas.org.au/event/worship-service/2023-10-08/
LOCATION:Coburg Uniting Church ( rear open space )\, 19 Victoria Street\, Coburg\, Victoria\, 3058\, Australia
GEO:-37.7432561;144.9644102
X-APPLE-STRUCTURED-LOCATION;VALUE=URI;X-ADDRESS=Coburg Uniting Church ( rear open space ) 19 Victoria Street Coburg Victoria 3058 Australia;X-APPLE-RADIUS=500;X-TITLE=19 Victoria Street:geo:144.9644102,-37.7432561
END:VEVENT
BEGIN:VEVENT
DTSTART;TZID=Australia/Melbourne:20231007T180000
DTEND;TZID=Australia/Melbourne:20231007T210000
DTSTAMP:20260422T124320
CREATED:20210113T004033Z
LAST-MODIFIED:20210113T005151Z
UID:10000104-1696701600-1696712400@coburg.ucavictas.org.au
SUMMARY:Mens Group
DESCRIPTION:First Saturday of each month. \nDiscussion of Spirituality and masculinity held over a meal.
URL:https://coburg.ucavictas.org.au/event/mens-group-3/2023-10-07/
LOCATION:Coburg Uniting Church ( rear open space )\, 19 Victoria Street\, Coburg\, Victoria\, 3058\, Australia
GEO:-37.7432561;144.9644102
X-APPLE-STRUCTURED-LOCATION;VALUE=URI;X-ADDRESS=Coburg Uniting Church ( rear open space ) 19 Victoria Street Coburg Victoria 3058 Australia;X-APPLE-RADIUS=500;X-TITLE=19 Victoria Street:geo:144.9644102,-37.7432561
END:VEVENT
BEGIN:VEVENT
DTSTART;TZID=Australia/Melbourne:20231006T103000
DTEND;TZID=Australia/Melbourne:20231006T120000
DTSTAMP:20260422T124320
CREATED:20210113T041931Z
LAST-MODIFIED:20210113T041931Z
UID:10000334-1696588200-1696593600@coburg.ucavictas.org.au
SUMMARY:Coffee Chat and Play Playgroup
DESCRIPTION:play; connection; inclusion; singing \nduring school term time
URL:https://coburg.ucavictas.org.au/event/coffee-chat-and-play-playgroup/2023-10-06/
END:VEVENT
BEGIN:VEVENT
DTSTART;TZID=Australia/Melbourne:20231004T190000
DTEND;TZID=Australia/Melbourne:20231004T213000
DTSTAMP:20260422T124320
CREATED:20220325T064325Z
LAST-MODIFIED:20220325T064325Z
UID:10000586-1696446000-1696455000@coburg.ucavictas.org.au
SUMMARY:Church Council
DESCRIPTION:
URL:https://coburg.ucavictas.org.au/event/church-council/2023-10-04/
END:VEVENT
BEGIN:VEVENT
DTSTART;TZID=Australia/Melbourne:20231001T100000
DTEND;TZID=Australia/Melbourne:20231001T110000
DTSTAMP:20260422T124320
CREATED:20220325T065604Z
LAST-MODIFIED:20220325T065604Z
UID:10000682-1696154400-1696158000@coburg.ucavictas.org.au
SUMMARY:Worship Service with Communion
DESCRIPTION:Enjoy an experience of uplifting music; a communion service; an inspiring message infused with spirituality\, psychology and ecology;  a spirit of blessing and friendship; coffee & tea are served after the service.\nFocus is on the ultimate inspiration:  Jesus of history- absolute equality.
URL:https://coburg.ucavictas.org.au/event/worship-service-with-communion/2023-10-01/
LOCATION:Coburg Uniting Church ( rear open space )\, 19 Victoria Street\, Coburg\, Victoria\, 3058\, Australia
GEO:-37.7432561;144.9644102
X-APPLE-STRUCTURED-LOCATION;VALUE=URI;X-ADDRESS=Coburg Uniting Church ( rear open space ) 19 Victoria Street Coburg Victoria 3058 Australia;X-APPLE-RADIUS=500;X-TITLE=19 Victoria Street:geo:144.9644102,-37.7432561
END:VEVENT
BEGIN:VEVENT
DTSTART;TZID=Australia/Melbourne:20230929T103000
DTEND;TZID=Australia/Melbourne:20230929T120000
DTSTAMP:20260422T124320
CREATED:20210113T041931Z
LAST-MODIFIED:20210113T041931Z
UID:10000333-1695983400-1695988800@coburg.ucavictas.org.au
SUMMARY:Coffee Chat and Play Playgroup
DESCRIPTION:play; connection; inclusion; singing \nduring school term time
URL:https://coburg.ucavictas.org.au/event/coffee-chat-and-play-playgroup/2023-09-29/
END:VEVENT
BEGIN:VEVENT
DTSTART;TZID=Australia/Melbourne:20230928T193000
DTEND;TZID=Australia/Melbourne:20230928T213000
DTSTAMP:20260422T124320
CREATED:20220325T062314Z
LAST-MODIFIED:20220325T062504Z
UID:10000491-1695929400-1695936600@coburg.ucavictas.org.au
SUMMARY:Social Games Group
DESCRIPTION:Board games night. Enjoy an evening of tabletop games in the church hall. A variety of games to suit all interests.
URL:https://coburg.ucavictas.org.au/event/social-games-group/2023-09-28/
END:VEVENT
END:VCALENDAR